BEGIN:VCALENDAR
VERSION:2.0
PRODID:-//Düppenweiler Imker - ECPv6.15.18//NONSGML v1.0//EN
CALSCALE:GREGORIAN
METHOD:PUBLISH
X-ORIGINAL-URL:https://dueppenweilerimker.de
X-WR-CALDESC:Veranstaltungen für Düppenweiler Imker
REFRESH-INTERVAL;VALUE=DURATION:PT1H
X-Robots-Tag:noindex
X-PUBLISHED-TTL:PT1H
BEGIN:VTIMEZONE
TZID:Europe/Berlin
BEGIN:DAYLIGHT
TZOFFSETFROM:+0100
TZOFFSETTO:+0200
TZNAME:CEST
DTSTART:20250330T010000
END:DAYLIGHT
BEGIN:STANDARD
TZOFFSETFROM:+0200
TZOFFSETTO:+0100
TZNAME:CET
DTSTART:20251026T010000
END:STANDARD
BEGIN:DAYLIGHT
TZOFFSETFROM:+0100
TZOFFSETTO:+0200
TZNAME:CEST
DTSTART:20260329T010000
END:DAYLIGHT
BEGIN:STANDARD
TZOFFSETFROM:+0200
TZOFFSETTO:+0100
TZNAME:CET
DTSTART:20261025T010000
END:STANDARD
BEGIN:DAYLIGHT
TZOFFSETFROM:+0100
TZOFFSETTO:+0200
TZNAME:CEST
DTSTART:20270328T010000
END:DAYLIGHT
BEGIN:STANDARD
TZOFFSETFROM:+0200
TZOFFSETTO:+0100
TZNAME:CET
DTSTART:20271031T010000
END:STANDARD
END:VTIMEZONE
BEGIN:VEVENT
DTSTART;TZID=Europe/Berlin:20260506T190000
DTEND;TZID=Europe/Berlin:20260506T210000
DTSTAMP:20260424T161353
CREATED:20260315T192248Z
LAST-MODIFIED:20260315T192932Z
UID:583-1778094000-1778101200@dueppenweilerimker.de
SUMMARY:Monatstreffen (Gäste herzlich willkommen)
DESCRIPTION:
URL:https://dueppenweilerimker.de/event/monatstreffen-gaeste-herzlich-willkommen-2/
LOCATION:Lehrbienenstand Litermont\, 49°24'27.9"N 6°46'45.2"E\, Düppenweiler\, 66701\, Deutschland
END:VEVENT
BEGIN:VEVENT
DTSTART;TZID=Europe/Berlin:20260603T190000
DTEND;TZID=Europe/Berlin:20260603T210000
DTSTAMP:20260424T161353
CREATED:20260315T192328Z
LAST-MODIFIED:20260315T192328Z
UID:585-1780513200-1780520400@dueppenweilerimker.de
SUMMARY:Monatstreffen (Gäste herzlich willkommen)
DESCRIPTION:
URL:https://dueppenweilerimker.de/event/monatstreffen-gaeste-herzlich-willkommen-3/
LOCATION:Lehrbienenstand Litermont\, 49°24'27.9"N 6°46'45.2"E\, Düppenweiler\, 66701\, Deutschland
END:VEVENT
BEGIN:VEVENT
DTSTART;TZID=Europe/Berlin:20260701T190000
DTEND;TZID=Europe/Berlin:20260701T210000
DTSTAMP:20260424T161353
CREATED:20260315T193206Z
LAST-MODIFIED:20260315T193206Z
UID:587-1782932400-1782939600@dueppenweilerimker.de
SUMMARY:Monatstreffen (Gäste herzlich willkommen)
DESCRIPTION:
URL:https://dueppenweilerimker.de/event/monatstreffen-gaeste-herzlich-willkommen-4/
LOCATION:Lehrbienenstand Litermont\, 49°24'27.9"N 6°46'45.2"E\, Düppenweiler\, 66701\, Deutschland
END:VEVENT
BEGIN:VEVENT
DTSTART;TZID=Europe/Berlin:20260805T190000
DTEND;TZID=Europe/Berlin:20260805T210000
DTSTAMP:20260424T161353
CREATED:20260315T193240Z
LAST-MODIFIED:20260315T193240Z
UID:589-1785956400-1785963600@dueppenweilerimker.de
SUMMARY:Monatstreffen (Gäste herzlich willkommen)
DESCRIPTION:
URL:https://dueppenweilerimker.de/event/monatstreffen-gaeste-herzlich-willkommen-5/
LOCATION:Lehrbienenstand Litermont\, 49°24'27.9"N 6°46'45.2"E\, Düppenweiler\, 66701\, Deutschland
END:VEVENT
BEGIN:VEVENT
DTSTART;TZID=Europe/Berlin:20260902T190000
DTEND;TZID=Europe/Berlin:20260902T210000
DTSTAMP:20260424T161353
CREATED:20260315T193311Z
LAST-MODIFIED:20260315T193311Z
UID:591-1788375600-1788382800@dueppenweilerimker.de
SUMMARY:Monatstreffen (Gäste herzlich willkommen)
DESCRIPTION:
URL:https://dueppenweilerimker.de/event/monatstreffen-gaeste-herzlich-willkommen-6/
LOCATION:Lehrbienenstand Litermont\, 49°24'27.9"N 6°46'45.2"E\, Düppenweiler\, 66701\, Deutschland
END:VEVENT
BEGIN:VEVENT
DTSTART;TZID=Europe/Berlin:20261007T190000
DTEND;TZID=Europe/Berlin:20261007T210000
DTSTAMP:20260424T161353
CREATED:20260315T193354Z
LAST-MODIFIED:20260315T193354Z
UID:593-1791399600-1791406800@dueppenweilerimker.de
SUMMARY:Monatstreffen (Gäste herzlich willkommen)
DESCRIPTION:
URL:https://dueppenweilerimker.de/event/monatstreffen-gaeste-herzlich-willkommen-7/
LOCATION:Lehrbienenstand Litermont\, 49°24'27.9"N 6°46'45.2"E\, Düppenweiler\, 66701\, Deutschland
END:VEVENT
BEGIN:VEVENT
DTSTART;TZID=Europe/Berlin:20261104T190000
DTEND;TZID=Europe/Berlin:20261104T210000
DTSTAMP:20260424T161353
CREATED:20260315T193430Z
LAST-MODIFIED:20260315T193430Z
UID:595-1793818800-1793826000@dueppenweilerimker.de
SUMMARY:Monatstreffen (Gäste herzlich willkommen)
DESCRIPTION:
URL:https://dueppenweilerimker.de/event/monatstreffen-gaeste-herzlich-willkommen-8/
LOCATION:Lehrbienenstand Litermont\, 49°24'27.9"N 6°46'45.2"E\, Düppenweiler\, 66701\, Deutschland
END:VEVENT
END:VCALENDAR